Workbook

Sheet Befizetések
A1: Sorszám | B1: Befizetés dátuma | C1: Megtakarító neve | D1: Lakóhely | E1: Jogviszony / foglalkoztató | F1: Termék típusa | G1: Szolgáltató | H1: Havi befizetés (Ft) | I1: Munkáltatói hozzájárulás (Ft) | J1: Összes befizetés (Ft) | K1: Adójóváírási kulcs | L1: Várható adójóváírás (Ft) | M1: Hozam / veszteség (Ft) | N1: Aktuális egyenleg (Ft) | O1: Célösszeg (Ft) | P1: Teljesültség (%) | Q1: Státusz
A2: =IF(B2="","",COUNT($B$2:B2)) | B2: 46034 | C2: Nagy Péter | D2: Budapest | E2: Kft. | F2: Önkéntes nyugdíjpénztár | G2: Prémium Önkéntes Nyugdíjpénztár | H2: 80000 | I2: 20000 | J2: =IF(B2="","",H2+I2) | K2: =IF(F2="","",IFERROR(VLOOKUP(F2,'Paraméterek'!$A$8:$B$10,2,FALSE),0)) | L2: =IF(OR(B2="",K2=""),"",J2*K2) | M2: 42000 | N2: =IF(B2="","",J2+L2+M2) | O2: 150000 | P2: =IF(OR(B2="",O2=0),"",IFERROR(N2/O2,0)) | Q2: =IF(P2="","",IF(P2>=1,"Cél elérve",IF(P2>=0.75,"Jó úton","Felülvizsgálandó")))
A3: =IF(B3="","",COUNT($B$2:B3)) | B3: 46063 | C3: Kovács Anna | D3: Debrecen | E3: egyéni vállalkozó | F3: NYESZ | G3: Alfa Befektetési Zrt. | H3: 120000 | I3: 0 | J3: =IF(B3="","",H3+I3) | K3: =IF(F3="","",IFERROR(VLOOKUP(F3,'Paraméterek'!$A$8:$B$10,2,FALSE),0)) | L3: =IF(OR(B3="",K3=""),"",J3*K3) | M3: 18000 | N3: =IF(B3="","",J3+L3+M3) | O3: 180000 | P3: =IF(OR(B3="",O3=0),"",IFERROR(N3/O3,0)) | Q3: =IF(P3="","",IF(P3>=1,"Cél elérve",IF(P3>=0.75,"Jó úton","Felülvizsgálandó")))
A4: =IF(B4="","",COUNT($B$2:B4)) | B4: 46090 | C4: Szabó Gábor | D4: Szeged | E4: Bt. | F4: Nyugdíjbiztosítás | G4: Biztos Jövő Biztosító Zrt. | H4: 65000 | I4: 10000 | J4: =IF(B4="","",H4+I4) | K4: =IF(F4="","",IFERROR(VLOOKUP(F4,'Paraméterek'!$A$8:$B$10,2,FALSE),0)) | L4: =IF(OR(B4="",K4=""),"",J4*K4) | M4: -8000 | N4: =IF(B4="","",J4+L4+M4) | O4: 110000 | P4: =IF(OR(B4="",O4=0),"",IFERROR(N4/O4,0)) | Q4: =IF(P4="","",IF(P4>=1,"Cél elérve",IF(P4>=0.75,"Jó úton","Felülvizsgálandó")))
A5: =IF(B5="","",COUNT($B$2:B5)) | B5: 46125 | C5: Tóth Erzsébet | D5: Miskolc | E5: Kft. | F5: Önkéntes nyugdíjpénztár | G5: Horizont Önkéntes Nyugdíjpénztár | H5: 90000 | I5: 30000 | J5: =IF(B5="","",H5+I5) | K5: =IF(F5="","",IFERROR(VLOOKUP(F5,'Paraméterek'!$A$8:$B$10,2,FALSE),0)) | L5: =IF(OR(B5="",K5=""),"",J5*K5) | M5: 32000 | N5: =IF(B5="","",J5+L5+M5) | O5: 200000 | P5: =IF(OR(B5="",O5=0),"",IFERROR(N5/O5,0)) | Q5: =IF(P5="","",IF(P5>=1,"Cél elérve",IF(P5>=0.75,"Jó úton","Felülvizsgálandó")))
A6: =IF(B6="","",COUNT($B$2:B6)) | B6: 46153 | C6: Horváth Zoltán | D6: Pécs | E6: Kft. | F6: NYESZ | G6: Duna Értékpapír Zrt. | H6: 150000 | I6: 15000 | J6: =IF(B6="","",H6+I6) | K6: =IF(F6="","",IFERROR(VLOOKUP(F6,'Paraméterek'!$A$8:$B$10,2,FALSE),0)) | L6: =IF(OR(B6="",K6=""),"",J6*K6) | M6: 26000 | N6: =IF(B6="","",J6+L6+M6) | O6: 230000 | P6: =IF(OR(B6="",O6=0),"",IFERROR(N6/O6,0)) | Q6: =IF(P6="","",IF(P6>=1,"Cél elérve",IF(P6>=0.75,"Jó úton","Felülvizsgálandó")))
A7: =IF(B7="","",COUNT($B$2:B7)) | B7: 46181 | C7: Kiss Mária | D7: Győr | E7: egyéni vállalkozó | F7: Nyugdíjbiztosítás | G7: Jövőkép Biztosító Zrt. | H7: 35000 | I7: 0 | J7: =IF(B7="","",H7+I7) | K7: =IF(F7="","",IFERROR(VLOOKUP(F7,'Paraméterek'!$A$8:$B$10,2,FALSE),0)) | L7: =IF(OR(B7="",K7=""),"",J7*K7) | M7: 6000 | N7: =IF(B7="","",J7+L7+M7) | O7: 80000 | P7: =IF(OR(B7="",O7=0),"",IFERROR(N7/O7,0)) | Q7: =IF(P7="","",IF(P7>=1,"Cél elérve",IF(P7>=0.75,"Jó úton","Felülvizsgálandó")))
A8: =IF(B8="","",COUNT($B$2:B8)) | B8: 46217 | C8: Varga István | D8: Nyíregyháza | E8: Bt. | F8: Önkéntes nyugdíjpénztár | G8: Prémium Önkéntes Nyugdíjpénztár | H8: 55000 | I8: 10000 | J8: =IF(B8="","",H8+I8) | K8: =IF(F8="","",IFERROR(VLOOKUP(F8,'Paraméterek'!$A$8:$B$10,2,FALSE),0)) | L8: =IF(OR(B8="",K8=""),"",J8*K8) | M8: 11000 | N8: =IF(B8="","",J8+L8+M8) | O8: 140000 | P8: =IF(OR(B8="",O8=0),"",IFERROR(N8/O8,0)) | Q8: =IF(P8="","",IF(P8>=1,"Cél elérve",IF(P8>=0.75,"Jó úton","Felülvizsgálandó")))
A9: =IF(B9="","",COUNT($B$2:B9)) | B9: 46246 | C9: Németh Judit | D9: Kecskemét | E9: Kft. | F9: NYESZ | G9: Alfa Befektetési Zrt. | H9: 110000 | I9: 25000 | J9: =IF(B9="","",H9+I9) | K9: =IF(F9="","",IFERROR(VLOOKUP(F9,'Paraméterek'!$A$8:$B$10,2,FALSE),0)) | L9: =IF(OR(B9="",K9=""),"",J9*K9) | M9: 36000 | N9: =IF(B9="","",J9+L9+M9) | O9: 190000 | P9: =IF(OR(B9="",O9=0),"",IFERROR(N9/O9,0)) | Q9: =IF(P9="","",IF(P9>=1,"Cél elérve",IF(P9>=0.75,"Jó úton","Felülvizsgálandó")))
A10: =IF(B10="","",COUNT($B$2:B10)) | B10: 46274 | C10: Farkas Tamás | D10: Székesfehérvár | E10: Kft. | F10: Nyugdíjbiztosítás | G10: Biztos Jövő Biztosító Zrt. | H10: 75000 | I10: 20000 | J10: =IF(B10="","",H10+I10) | K10: =IF(F10="","",IFERROR(VLOOKUP(F10,'Paraméterek'!$A$8:$B$10,2,FALSE),0)) | L10: =IF(OR(B10="",K10=""),"",J10*K10) | M10: 24000 | N10: =IF(B10="","",J10+L10+M10) | O10: 130000 | P10: =IF(OR(B10="",O10=0),"",IFERROR(N10/O10,0)) | Q10: =IF(P10="","",IF(P10>=1,"Cél elérve",IF(P10>=0.75,"Jó úton","Felülvizsgálandó")))
A11: =IF(B11="","",COUNT($B$2:B11)) | B11: 46290 | C11: Balogh Éva | D11: Szombathely | E11: egyéni vállalkozó | F11: Önkéntes nyugdíjpénztár | G11: Horizont Önkéntes Nyugdíjpénztár | H11: 130000 | I11: 0 | J11: =IF(B11="","",H11+I11) | K11: =IF(F11="","",IFERROR(VLOOKUP(F11,'Paraméterek'!$A$8:$B$10,2,FALSE),0)) | L11: =IF(OR(B11="",K11=""),"",J11*K11) | M11: 30000 | N11: =IF(B11="","",J11+L11+M11) | O11: 180000 | P11: =IF(OR(B11="",O11=0),"",IFERROR(N11/O11,0)) | Q11: =IF(P11="","",IF(P11>=1,"Cél elérve",IF(P11>=0.75,"Jó úton","Felülvizsgálandó")))
A12: =IF(B12="","",COUNT($B$2:B12)) | J12: =IF(B12="","",H12+I12) | K12: =IF(F12="","",IFERROR(VLOOKUP(F12,'Paraméterek'!$A$8:$B$10,2,FALSE),0)) | L12: =IF(OR(B12="",K12=""),"",J12*K12) | N12: =IF(B12="","",J12+L12+M12) | P12: =IF(OR(B12="",O12=0),"",IFERROR(N12/O12,0)) | Q12: =IF(P12="","",IF(P12>=1,"Cél elérve",IF(P12>=0.75,"Jó úton","Felülvizsgálandó")))
A13: =IF(B13="","",COUNT($B$2:B13)) | J13: =IF(B13="","",H13+I13) | K13: =IF(F13="","",IFERROR(VLOOKUP(F13,'Paraméterek'!$A$8:$B$10,2,FALSE),0)) | L13: =IF(OR(B13="",K13=""),"",J13*K13) | N13: =IF(B13="","",J13+L13+M13) | P13: =IF(OR(B13="",O13=0),"",IFERROR(N13/O13,0)) | Q13: =IF(P13="","",IF(P13>=1,"Cél elérve",IF(P13>=0.75,"Jó úton","Felülvizsgálandó")))
A14: =IF(B14="","",COUNT($B$2:B14)) | J14: =IF(B14="","",H14+I14) | K14: =IF(F14="","",IFERROR(VLOOKUP(F14,'Paraméterek'!$A$8:$B$10,2,FALSE),0)) | L14: =IF(OR(B14="",K14=""),"",J14*K14) | N14: =IF(B14="","",J14+L14+M14) | P14: =IF(OR(B14="",O14=0),"",IFERROR(N14/O14,0)) | Q14: =IF(P14="","",IF(P14>=1,"Cél elérve",IF(P14>=0.75,"Jó úton","Felülvizsgálandó")))
A15: =IF(B15="","",COUNT($B$2:B15)) | J15: =IF(B15="","",H15+I15) | K15: =IF(F15="","",IFERROR(VLOOKUP(F15,'Paraméterek'!$A$8:$B$10,2,FALSE),0)) | L15: =IF(OR(B15="",K15=""),"",J15*K15) | N15: =IF(B15="","",J15+L15+M15) | P15: =IF(OR(B15="",O15=0),"",IFERROR(N15/O15,0)) | Q15: =IF(P15="","",IF(P15>=1,"Cél elérve",IF(P15>=0.75,"Jó úton","Felülvizsgálandó")))
A16: =IF(B16="","",COUNT($B$2:B16)) | J16: =IF(B16="","",H16+I16) | K16: =IF(F16="","",IFERROR(VLOOKUP(F16,'Paraméterek'!$A$8:$B$10,2,FALSE),0)) | L16: =IF(OR(B16="",K16=""),"",J16*K16) | N16: =IF(B16="","",J16+L16+M16) | P16: =IF(OR(B16="",O16=0),"",IFERROR(N16/O16,0)) | Q16: =IF(P16="","",IF(P16>=1,"Cél elérve",IF(P16>=0.75,"Jó úton","Felülvizsgálandó")))
A17: =IF(B17="","",COUNT($B$2:B17)) | J17: =IF(B17="","",H17+I17) | K17: =IF(F17="","",IFERROR(VLOOKUP(F17,'Paraméterek'!$A$8:$B$10,2,FALSE),0)) | L17: =IF(OR(B17="",K17=""),"",J17*K17) | N17: =IF(B17="","",J17+L17+M17) | P17: =IF(OR(B17="",O17=0),"",IFERROR(N17/O17,0)) | Q17: =IF(P17="","",IF(P17>=1,"Cél elérve",IF(P17>=0.75,"Jó úton","Felülvizsgálandó")))
A18: =IF(B18="","",COUNT($B$2:B18)) | J18: =IF(B18="","",H18+I18) | K18: =IF(F18="","",IFERROR(VLOOKUP(F18,'Paraméterek'!$A$8:$B$10,2,FALSE),0)) | L18: =IF(OR(B18="",K18=""),"",J18*K18) | N18: =IF(B18="","",J18+L18+M18) | P18: =IF(OR(B18="",O18=0),"",IFERROR(N18/O18,0)) | Q18: =IF(P18="","",IF(P18>=1,"Cél elérve",IF(P18>=0.75,"Jó úton","Felülvizsgálandó")))
A19: =IF(B19="","",COUNT($B$2:B19)) | J19: =IF(B19="","",H19+I19) | K19: =IF(F19="","",IFERROR(VLOOKUP(F19,'Paraméterek'!$A$8:$B$10,2,FALSE),0)) | L19: =IF(OR(B19="",K19=""),"",J19*K19) | N19: =IF(B19="","",J19+L19+M19) | P19: =IF(OR(B19="",O19=0),"",IFERROR(N19/O19,0)) | Q19: =IF(P19="","",IF(P19>=1,"Cél elérve",IF(P19>=0.75,"Jó úton","Felülvizsgálandó")))
A20: =IF(B20="","",COUNT($B$2:B20)) | J20: =IF(B20="","",H20+I20) | K20: =IF(F20="","",IFERROR(VLOOKUP(F20,'Paraméterek'!$A$8:$B$10,2,FALSE),0)) | L20: =IF(OR(B20="",K20=""),"",J20*K20) | N20: =IF(B20="","",J20+L20+M20) | P20: =IF(OR(B20="",O20=0),"",IFERROR(N20/O20,0)) | Q20: =IF(P20="","",IF(P20>=1,"Cél elérve",IF(P20>=0.75,"Jó úton","Felülvizsgálandó")))
A21: =IF(B21="","",COUNT($B$2:B21)) | J21: =IF(B21="","",H21+I21) | K21: =IF(F21="","",IFERROR(VLOOKUP(F21,'Paraméterek'!$A$8:$B$10,2,FALSE),0)) | L21: =IF(OR(B21="",K21=""),"",J21*K21) | N21: =IF(B21="","",J21+L21+M21) | P21: =IF(OR(B21="",O21=0),"",IFERROR(N21/O21,0)) | Q21: =IF(P21="","",IF(P21>=1,"Cél elérve",IF(P21>=0.75,"Jó úton","Felülvizsgálandó")))
A22: =IF(B22="","",COUNT($B$2:B22)) | J22: =IF(B22="","",H22+I22) | K22: =IF(F22="","",IFERROR(VLOOKUP(F22,'Paraméterek'!$A$8:$B$10,2,FALSE),0)) | L22: =IF(OR(B22="",K22=""),"",J22*K22) | N22: =IF(B22="","",J22+L22+M22) | P22: =IF(OR(B22="",O22=0),"",IFERROR(N22/O22,0)) | Q22: =IF(P22="","",IF(P22>=1,"Cél elérve",IF(P22>=0.75,"Jó úton","Felülvizsgálandó")))
A23: =IF(B23="","",COUNT($B$2:B23)) | J23: =IF(B23="","",H23+I23) | K23: =IF(F23="","",IFERROR(VLOOKUP(F23,'Paraméterek'!$A$8:$B$10,2,FALSE),0)) | L23: =IF(OR(B23="",K23=""),"",J23*K23) | N23: =IF(B23="","",J23+L23+M23) | P23: =IF(OR(B23="",O23=0),"",IFERROR(N23/O23,0)) | Q23: =IF(P23="","",IF(P23>=1,"Cél elérve",IF(P23>=0.75,"Jó úton","Felülvizsgálandó")))
... A101: =IF(B101="","",COUNT($B$2:B101)) | J101: =IF(B101="","",H101+I101) | K101: =IF(F101="","",IFERROR(VLOOKUP(F101,'Paraméterek'!$A$8:$B$10,2,FALSE),0)) | L101: =IF(OR(B101="",K101=""),"",J101*K101) | N101: =IF(B101="","",J101+L101+M101) | P101: =IF(OR(B101="",O101=0),"",IFERROR(N101/O101,0)) | Q101: =IF(P101="","",IF(P101>=1,"Cél elérve",IF(P101>=0.75,"Jó úton","Felülvizsgálandó")))

Sheet Dashboard
A1: Nyugdíj megtakarítási áttekintő
A3: Összes saját befizetés | B3: =SUM('Befizetések'!H2:H101) | D3: Összes munkáltatói hozzájárulás | E3: =SUM('Befizetések'!I2:I101) | G3: Termék típusa | H3: Aktuális egyenleg (Ft)
G4: Önkéntes nyugdíjpénztár | H4: =SUMIF('Befizetések'!$F$2:$F$101,G4,'Befizetések'!$N$2:$N$101)
A5: Összes befizetés | B5: =SUM('Befizetések'!J2:J101) | D5: Várható adójóváírás | E5: =SUM('Befizetések'!L2:L101) | G5: NYESZ | H5: =SUMIF('Befizetések'!$F$2:$F$101,G5,'Befizetések'!$N$2:$N$101)
G6: Nyugdíjbiztosítás | H6: =SUMIF('Befizetések'!$F$2:$F$101,G6,'Befizetések'!$N$2:$N$101)
A7: Aktuális egyenleg | B7: =SUM('Befizetések'!N2:N101) | D7: Átlagos cél-teljesültség | E7: =IFERROR(AVERAGE('Befizetések'!P2:P101),0)
A9: Elért célok száma | B9: =COUNTIF('Befizetések'!Q2:Q101,"Cél elérve") | D9: Egyenleg / befizetés arány | E9: =IF(SUM('Befizetések'!J2:J101)=0,0,SUM('Befizetések'!N2:N101)/SUM('Befizetések'!J2:J101))
A12: Adójóváírás keretfigyelés | B12: =IF(E5>'Paraméterek'!$B$2,"Figyelmeztetés: a várható adójóváírás meghaladja az éves keretet","Rendben: a várható adójóváírás az éves kereten belül van")

Sheet Paraméterek
A1: Nyugdíj megtakarítási paraméterek és ellenőrzési értékek
A2: Adójóváírás éves maximális kerete | B2: 280000
A3: Alapértelmezett célkorhatár | B3: 65
A4: Alapértelmezett éves hozamfeltételezés | B4: 0.045
A5: Megjegyzés | B5: A keret és a feltételezések szerkeszthetők. A tényleges jogosultságot, keretet és adójóváírást mindig a NAV aktuális szabályai szerint szükséges ellenőrizni.
A7: Termék típusa | B7: Adójóváírási kulcs
A8: Önkéntes nyugdíjpénztár | B8: 0.2
A9: NYESZ | B9: 0.2
A10: Nyugdíjbiztosítás | B10: 0.2
A12: Rövid használati útmutató
A13: Befizetések lap | B13: A sárga mezők kézi adatbevitelre szolgálnak. Minden új havi befizetéshez használjon új sort.
A14: Számított értékek | B14: Az összes befizetés, várható adójóváírás, aktuális egyenleg, teljesültség és státusz automatikusan számolódik.
A15: Adójóváírás | B15: A terméktípushoz tartozó kulcs a fenti táblából érkezik. Az éves keret szerkeszthető paraméter, ezért rendszeresen ellenőrizze.
A16: ÁFA-kezelés | B16: A sablon magánszemélyi nyugdíjcélú megtakarítás követésére készült, ezért külön ÁFA-számítást nem tartalmaz.
A17: Adatellenőrzés | B17: A negatív hozamok és a felülvizsgálandó státuszok piros kiemeléssel jelennek meg.

Sheet Útmutató
A1: Nyugdíj megtakarítás követő sablon – használati útmutató
A3: Téma | B3: Útmutatás
A4: Befizetések | B4: A Befizetések lapon havi vagy eseti befizetéseket rögzíthet. A sárga háttér minden esetben szerkeszthető mezőt jelöl.
A5: Havi befizetés | B5: A havi befizetés mezőben a megtakarító saját befizetését, a munkáltatói hozzájárulás mezőben a foglalkoztató által adott összeget rögzítse.
A6: Termék típusa | B6: Válasszon az önkéntes nyugdíjpénztár, NYESZ és nyugdíjbiztosítás terméktípusok közül. A kulcs automatikusan a Paraméterek lapról érkezik.
A7: Hozam / veszteség | B7: A befektetési hozamot vagy veszteséget előjeles Ft összegben adja meg. Negatív érték esetén a cella piros kiemelést kap.
A8: Célösszeg | B8: A célösszeghez a kívánt megtakarítási szintet rögzítse. A teljesültség és a státusz automatikusan frissül.
A9: Dashboard | B9: A Dashboard összesíti a teljes befizetést, az egyenleget, a várható adójóváírást és a célok teljesülését. A diagramok a teljes előkészített adattartományt figyelik.
A10: Adójóváírási keret | B10: A figyelmeztetés a Paraméterek lapon megadott éves kerettel hasonlítja össze a várható összes adójóváírást.
A11: NAV ellenőrzés | B11: A sablon tájékoztató jellegű. A tényleges adójóváírási jogosultságot és az éves keretet mindig a NAV aktuális szabályai alapján ellenőrizze.
A12: Adatvédelem | B12: A munkafüzet személyes és pénzügyi adatokat tartalmazhat, ezért megosztás előtt ellenőrizze a hozzáféréseket.
