Workbook

Sheet Napi napló
A1: Dátum | B1: Nap | C1: Étkezés | D1: Élelmiszer | E1: Mennyiség (g/ml) | F1: Egység | G1: Kcal / 100 g | H1: Fehérje / 100 g (g) | I1: Szénhidrát / 100 g (g) | J1: Zsír / 100 g (g) | K1: Rost / 100 g (g) | L1: Összes kcal | M1: Összes fehérje (g) | N1: Összes szénhidrát (g) | O1: Összes zsír (g) | P1: Összes rost (g) | Q1: Folyadék (ml) | R1: Megjegyzés
A2: 46296 | B2: =IF(A2="","",IFERROR(VLOOKUP(MOD(A2,7),$T$2:$U$8,2,FALSE),"")) | C2: reggeli | D2: zabpehely | E2: 60 | F2: =IF(E2="","","g") | G2: =IF(D2="","",IFERROR(VLOOKUP(D2,'Élelmiszer törzs'!$A$2:$G$101,3,FALSE),"")) | H2: =IF(D2="","",IFERROR(VLOOKUP(D2,'Élelmiszer törzs'!$A$2:$G$101,4,FALSE),"")) | I2: =IF(D2="","",IFERROR(VLOOKUP(D2,'Élelmiszer törzs'!$A$2:$G$101,5,FALSE),"")) | J2: =IF(D2="","",IFERROR(VLOOKUP(D2,'Élelmiszer törzs'!$A$2:$G$101,6,FALSE),"")) | K2: =IF(D2="","",IFERROR(VLOOKUP(D2,'Élelmiszer törzs'!$A$2:$G$101,7,FALSE),"")) | L2: =IF(OR(E2="",G2=""),"",IFERROR(E2/100*G2,0)) | M2: =IF(OR(E2="",H2=""),"",IFERROR(E2/100*H2,0)) | N2: =IF(OR(E2="",I2=""),"",IFERROR(E2/100*I2,0)) | O2: =IF(OR(E2="",J2=""),"",IFERROR(E2/100*J2,0)) | P2: =IF(OR(E2="",K2=""),"",IFERROR(E2/100*K2,0)) | Q2: 300 | R2: Zabkása vízzel | T2: 2 | U2: hétfő
A3: 46296 | B3: =IF(A3="","",IFERROR(VLOOKUP(MOD(A3,7),$T$2:$U$8,2,FALSE),"")) | C3: reggeli | D3: görög joghurt | E3: 150 | F3: =IF(E3="","","g") | G3: =IF(D3="","",IFERROR(VLOOKUP(D3,'Élelmiszer törzs'!$A$2:$G$101,3,FALSE),"")) | H3: =IF(D3="","",IFERROR(VLOOKUP(D3,'Élelmiszer törzs'!$A$2:$G$101,4,FALSE),"")) | I3: =IF(D3="","",IFERROR(VLOOKUP(D3,'Élelmiszer törzs'!$A$2:$G$101,5,FALSE),"")) | J3: =IF(D3="","",IFERROR(VLOOKUP(D3,'Élelmiszer törzs'!$A$2:$G$101,6,FALSE),"")) | K3: =IF(D3="","",IFERROR(VLOOKUP(D3,'Élelmiszer törzs'!$A$2:$G$101,7,FALSE),"")) | L3: =IF(OR(E3="",G3=""),"",IFERROR(E3/100*G3,0)) | M3: =IF(OR(E3="",H3=""),"",IFERROR(E3/100*H3,0)) | N3: =IF(OR(E3="",I3=""),"",IFERROR(E3/100*I3,0)) | O3: =IF(OR(E3="",J3=""),"",IFERROR(E3/100*J3,0)) | P3: =IF(OR(E3="",K3=""),"",IFERROR(E3/100*K3,0)) | Q3: 0 | R3: Natúr görög joghurt | T3: 3 | U3: kedd
A4: 46296 | B4: =IF(A4="","",IFERROR(VLOOKUP(MOD(A4,7),$T$2:$U$8,2,FALSE),"")) | C4: reggeli | D4: banán | E4: 120 | F4: =IF(E4="","","g") | G4: =IF(D4="","",IFERROR(VLOOKUP(D4,'Élelmiszer törzs'!$A$2:$G$101,3,FALSE),"")) | H4: =IF(D4="","",IFERROR(VLOOKUP(D4,'Élelmiszer törzs'!$A$2:$G$101,4,FALSE),"")) | I4: =IF(D4="","",IFERROR(VLOOKUP(D4,'Élelmiszer törzs'!$A$2:$G$101,5,FALSE),"")) | J4: =IF(D4="","",IFERROR(VLOOKUP(D4,'Élelmiszer törzs'!$A$2:$G$101,6,FALSE),"")) | K4: =IF(D4="","",IFERROR(VLOOKUP(D4,'Élelmiszer törzs'!$A$2:$G$101,7,FALSE),"")) | L4: =IF(OR(E4="",G4=""),"",IFERROR(E4/100*G4,0)) | M4: =IF(OR(E4="",H4=""),"",IFERROR(E4/100*H4,0)) | N4: =IF(OR(E4="",I4=""),"",IFERROR(E4/100*I4,0)) | O4: =IF(OR(E4="",J4=""),"",IFERROR(E4/100*J4,0)) | P4: =IF(OR(E4="",K4=""),"",IFERROR(E4/100*K4,0)) | Q4: 0 | R4: Friss gyümölcs | T4: 4 | U4: szerda
A5: 46296 | B5: =IF(A5="","",IFERROR(VLOOKUP(MOD(A5,7),$T$2:$U$8,2,FALSE),"")) | C5: ebéd | D5: csirkemell | E5: 180 | F5: =IF(E5="","","g") | G5: =IF(D5="","",IFERROR(VLOOKUP(D5,'Élelmiszer törzs'!$A$2:$G$101,3,FALSE),"")) | H5: =IF(D5="","",IFERROR(VLOOKUP(D5,'Élelmiszer törzs'!$A$2:$G$101,4,FALSE),"")) | I5: =IF(D5="","",IFERROR(VLOOKUP(D5,'Élelmiszer törzs'!$A$2:$G$101,5,FALSE),"")) | J5: =IF(D5="","",IFERROR(VLOOKUP(D5,'Élelmiszer törzs'!$A$2:$G$101,6,FALSE),"")) | K5: =IF(D5="","",IFERROR(VLOOKUP(D5,'Élelmiszer törzs'!$A$2:$G$101,7,FALSE),"")) | L5: =IF(OR(E5="",G5=""),"",IFERROR(E5/100*G5,0)) | M5: =IF(OR(E5="",H5=""),"",IFERROR(E5/100*H5,0)) | N5: =IF(OR(E5="",I5=""),"",IFERROR(E5/100*I5,0)) | O5: =IF(OR(E5="",J5=""),"",IFERROR(E5/100*J5,0)) | P5: =IF(OR(E5="",K5=""),"",IFERROR(E5/100*K5,0)) | Q5: 500 | R5: Grillezett csirkemell | T5: 5 | U5: csütörtök
A6: 46296 | B6: =IF(A6="","",IFERROR(VLOOKUP(MOD(A6,7),$T$2:$U$8,2,FALSE),"")) | C6: ebéd | D6: barna rizs | E6: 200 | F6: =IF(E6="","","g") | G6: =IF(D6="","",IFERROR(VLOOKUP(D6,'Élelmiszer törzs'!$A$2:$G$101,3,FALSE),"")) | H6: =IF(D6="","",IFERROR(VLOOKUP(D6,'Élelmiszer törzs'!$A$2:$G$101,4,FALSE),"")) | I6: =IF(D6="","",IFERROR(VLOOKUP(D6,'Élelmiszer törzs'!$A$2:$G$101,5,FALSE),"")) | J6: =IF(D6="","",IFERROR(VLOOKUP(D6,'Élelmiszer törzs'!$A$2:$G$101,6,FALSE),"")) | K6: =IF(D6="","",IFERROR(VLOOKUP(D6,'Élelmiszer törzs'!$A$2:$G$101,7,FALSE),"")) | L6: =IF(OR(E6="",G6=""),"",IFERROR(E6/100*G6,0)) | M6: =IF(OR(E6="",H6=""),"",IFERROR(E6/100*H6,0)) | N6: =IF(OR(E6="",I6=""),"",IFERROR(E6/100*I6,0)) | O6: =IF(OR(E6="",J6=""),"",IFERROR(E6/100*J6,0)) | P6: =IF(OR(E6="",K6=""),"",IFERROR(E6/100*K6,0)) | Q6: 0 | R6: Főtt barna rizs | T6: 6 | U6: péntek
A7: 46297 | B7: =IF(A7="","",IFERROR(VLOOKUP(MOD(A7,7),$T$2:$U$8,2,FALSE),"")) | C7: reggeli | D7: tojás | E7: 120 | F7: =IF(E7="","","g") | G7: =IF(D7="","",IFERROR(VLOOKUP(D7,'Élelmiszer törzs'!$A$2:$G$101,3,FALSE),"")) | H7: =IF(D7="","",IFERROR(VLOOKUP(D7,'Élelmiszer törzs'!$A$2:$G$101,4,FALSE),"")) | I7: =IF(D7="","",IFERROR(VLOOKUP(D7,'Élelmiszer törzs'!$A$2:$G$101,5,FALSE),"")) | J7: =IF(D7="","",IFERROR(VLOOKUP(D7,'Élelmiszer törzs'!$A$2:$G$101,6,FALSE),"")) | K7: =IF(D7="","",IFERROR(VLOOKUP(D7,'Élelmiszer törzs'!$A$2:$G$101,7,FALSE),"")) | L7: =IF(OR(E7="",G7=""),"",IFERROR(E7/100*G7,0)) | M7: =IF(OR(E7="",H7=""),"",IFERROR(E7/100*H7,0)) | N7: =IF(OR(E7="",I7=""),"",IFERROR(E7/100*I7,0)) | O7: =IF(OR(E7="",J7=""),"",IFERROR(E7/100*J7,0)) | P7: =IF(OR(E7="",K7=""),"",IFERROR(E7/100*K7,0)) | Q7: 250 | R7: Főtt tojás | T7: 0 | U7: szombat
A8: 46297 | B8: =IF(A8="","",IFERROR(VLOOKUP(MOD(A8,7),$T$2:$U$8,2,FALSE),"")) | C8: reggeli | D8: teljes kiőrlésű kenyér | E8: 80 | F8: =IF(E8="","","g") | G8: =IF(D8="","",IFERROR(VLOOKUP(D8,'Élelmiszer törzs'!$A$2:$G$101,3,FALSE),"")) | H8: =IF(D8="","",IFERROR(VLOOKUP(D8,'Élelmiszer törzs'!$A$2:$G$101,4,FALSE),"")) | I8: =IF(D8="","",IFERROR(VLOOKUP(D8,'Élelmiszer törzs'!$A$2:$G$101,5,FALSE),"")) | J8: =IF(D8="","",IFERROR(VLOOKUP(D8,'Élelmiszer törzs'!$A$2:$G$101,6,FALSE),"")) | K8: =IF(D8="","",IFERROR(VLOOKUP(D8,'Élelmiszer törzs'!$A$2:$G$101,7,FALSE),"")) | L8: =IF(OR(E8="",G8=""),"",IFERROR(E8/100*G8,0)) | M8: =IF(OR(E8="",H8=""),"",IFERROR(E8/100*H8,0)) | N8: =IF(OR(E8="",I8=""),"",IFERROR(E8/100*I8,0)) | O8: =IF(OR(E8="",J8=""),"",IFERROR(E8/100*J8,0)) | P8: =IF(OR(E8="",K8=""),"",IFERROR(E8/100*K8,0)) | Q8: 0 | R8: Pirított kenyér | T8: 1 | U8: vasárnap
A9: 46297 | B9: =IF(A9="","",IFERROR(VLOOKUP(MOD(A9,7),$T$2:$U$8,2,FALSE),"")) | C9: vacsora | D9: lazac | E9: 160 | F9: =IF(E9="","","g") | G9: =IF(D9="","",IFERROR(VLOOKUP(D9,'Élelmiszer törzs'!$A$2:$G$101,3,FALSE),"")) | H9: =IF(D9="","",IFERROR(VLOOKUP(D9,'Élelmiszer törzs'!$A$2:$G$101,4,FALSE),"")) | I9: =IF(D9="","",IFERROR(VLOOKUP(D9,'Élelmiszer törzs'!$A$2:$G$101,5,FALSE),"")) | J9: =IF(D9="","",IFERROR(VLOOKUP(D9,'Élelmiszer törzs'!$A$2:$G$101,6,FALSE),"")) | K9: =IF(D9="","",IFERROR(VLOOKUP(D9,'Élelmiszer törzs'!$A$2:$G$101,7,FALSE),"")) | L9: =IF(OR(E9="",G9=""),"",IFERROR(E9/100*G9,0)) | M9: =IF(OR(E9="",H9=""),"",IFERROR(E9/100*H9,0)) | N9: =IF(OR(E9="",I9=""),"",IFERROR(E9/100*I9,0)) | O9: =IF(OR(E9="",J9=""),"",IFERROR(E9/100*J9,0)) | P9: =IF(OR(E9="",K9=""),"",IFERROR(E9/100*K9,0)) | Q9: 450 | R9: Sült lazac
A10: 46298 | B10: =IF(A10="","",IFERROR(VLOOKUP(MOD(A10,7),$T$2:$U$8,2,FALSE),"")) | C10: tízórai | D10: alma | E10: 180 | F10: =IF(E10="","","g") | G10: =IF(D10="","",IFERROR(VLOOKUP(D10,'Élelmiszer törzs'!$A$2:$G$101,3,FALSE),"")) | H10: =IF(D10="","",IFERROR(VLOOKUP(D10,'Élelmiszer törzs'!$A$2:$G$101,4,FALSE),"")) | I10: =IF(D10="","",IFERROR(VLOOKUP(D10,'Élelmiszer törzs'!$A$2:$G$101,5,FALSE),"")) | J10: =IF(D10="","",IFERROR(VLOOKUP(D10,'Élelmiszer törzs'!$A$2:$G$101,6,FALSE),"")) | K10: =IF(D10="","",IFERROR(VLOOKUP(D10,'Élelmiszer törzs'!$A$2:$G$101,7,FALSE),"")) | L10: =IF(OR(E10="",G10=""),"",IFERROR(E10/100*G10,0)) | M10: =IF(OR(E10="",H10=""),"",IFERROR(E10/100*H10,0)) | N10: =IF(OR(E10="",I10=""),"",IFERROR(E10/100*I10,0)) | O10: =IF(OR(E10="",J10=""),"",IFERROR(E10/100*J10,0)) | P10: =IF(OR(E10="",K10=""),"",IFERROR(E10/100*K10,0)) | Q10: 300 | R10: Friss alma
A11: 46298 | B11: =IF(A11="","",IFERROR(VLOOKUP(MOD(A11,7),$T$2:$U$8,2,FALSE),"")) | C11: tízórai | D11: mandula | E11: 30 | F11: =IF(E11="","","g") | G11: =IF(D11="","",IFERROR(VLOOKUP(D11,'Élelmiszer törzs'!$A$2:$G$101,3,FALSE),"")) | H11: =IF(D11="","",IFERROR(VLOOKUP(D11,'Élelmiszer törzs'!$A$2:$G$101,4,FALSE),"")) | I11: =IF(D11="","",IFERROR(VLOOKUP(D11,'Élelmiszer törzs'!$A$2:$G$101,5,FALSE),"")) | J11: =IF(D11="","",IFERROR(VLOOKUP(D11,'Élelmiszer törzs'!$A$2:$G$101,6,FALSE),"")) | K11: =IF(D11="","",IFERROR(VLOOKUP(D11,'Élelmiszer törzs'!$A$2:$G$101,7,FALSE),"")) | L11: =IF(OR(E11="",G11=""),"",IFERROR(E11/100*G11,0)) | M11: =IF(OR(E11="",H11=""),"",IFERROR(E11/100*H11,0)) | N11: =IF(OR(E11="",I11=""),"",IFERROR(E11/100*I11,0)) | O11: =IF(OR(E11="",J11=""),"",IFERROR(E11/100*J11,0)) | P11: =IF(OR(E11="",K11=""),"",IFERROR(E11/100*K11,0)) | Q11: 0 | R11: Natúr mandula
B12: =IF(A12="","",IFERROR(VLOOKUP(MOD(A12,7),$T$2:$U$8,2,FALSE),"")) | F12: =IF(E12="","","g") | G12: =IF(D12="","",IFERROR(VLOOKUP(D12,'Élelmiszer törzs'!$A$2:$G$101,3,FALSE),"")) | H12: =IF(D12="","",IFERROR(VLOOKUP(D12,'Élelmiszer törzs'!$A$2:$G$101,4,FALSE),"")) | I12: =IF(D12="","",IFERROR(VLOOKUP(D12,'Élelmiszer törzs'!$A$2:$G$101,5,FALSE),"")) | J12: =IF(D12="","",IFERROR(VLOOKUP(D12,'Élelmiszer törzs'!$A$2:$G$101,6,FALSE),"")) | K12: =IF(D12="","",IFERROR(VLOOKUP(D12,'Élelmiszer törzs'!$A$2:$G$101,7,FALSE),"")) | L12: =IF(OR(E12="",G12=""),"",IFERROR(E12/100*G12,0)) | M12: =IF(OR(E12="",H12=""),"",IFERROR(E12/100*H12,0)) | N12: =IF(OR(E12="",I12=""),"",IFERROR(E12/100*I12,0)) | O12: =IF(OR(E12="",J12=""),"",IFERROR(E12/100*J12,0)) | P12: =IF(OR(E12="",K12=""),"",IFERROR(E12/100*K12,0))
B13: =IF(A13="","",IFERROR(VLOOKUP(MOD(A13,7),$T$2:$U$8,2,FALSE),"")) | F13: =IF(E13="","","g") | G13: =IF(D13="","",IFERROR(VLOOKUP(D13,'Élelmiszer törzs'!$A$2:$G$101,3,FALSE),"")) | H13: =IF(D13="","",IFERROR(VLOOKUP(D13,'Élelmiszer törzs'!$A$2:$G$101,4,FALSE),"")) | I13: =IF(D13="","",IFERROR(VLOOKUP(D13,'Élelmiszer törzs'!$A$2:$G$101,5,FALSE),"")) | J13: =IF(D13="","",IFERROR(VLOOKUP(D13,'Élelmiszer törzs'!$A$2:$G$101,6,FALSE),"")) | K13: =IF(D13="","",IFERROR(VLOOKUP(D13,'Élelmiszer törzs'!$A$2:$G$101,7,FALSE),"")) | L13: =IF(OR(E13="",G13=""),"",IFERROR(E13/100*G13,0)) | M13: =IF(OR(E13="",H13=""),"",IFERROR(E13/100*H13,0)) | N13: =IF(OR(E13="",I13=""),"",IFERROR(E13/100*I13,0)) | O13: =IF(OR(E13="",J13=""),"",IFERROR(E13/100*J13,0)) | P13: =IF(OR(E13="",K13=""),"",IFERROR(E13/100*K13,0))
B14: =IF(A14="","",IFERROR(VLOOKUP(MOD(A14,7),$T$2:$U$8,2,FALSE),"")) | F14: =IF(E14="","","g") | G14: =IF(D14="","",IFERROR(VLOOKUP(D14,'Élelmiszer törzs'!$A$2:$G$101,3,FALSE),"")) | H14: =IF(D14="","",IFERROR(VLOOKUP(D14,'Élelmiszer törzs'!$A$2:$G$101,4,FALSE),"")) | I14: =IF(D14="","",IFERROR(VLOOKUP(D14,'Élelmiszer törzs'!$A$2:$G$101,5,FALSE),"")) | J14: =IF(D14="","",IFERROR(VLOOKUP(D14,'Élelmiszer törzs'!$A$2:$G$101,6,FALSE),"")) | K14: =IF(D14="","",IFERROR(VLOOKUP(D14,'Élelmiszer törzs'!$A$2:$G$101,7,FALSE),"")) | L14: =IF(OR(E14="",G14=""),"",IFERROR(E14/100*G14,0)) | M14: =IF(OR(E14="",H14=""),"",IFERROR(E14/100*H14,0)) | N14: =IF(OR(E14="",I14=""),"",IFERROR(E14/100*I14,0)) | O14: =IF(OR(E14="",J14=""),"",IFERROR(E14/100*J14,0)) | P14: =IF(OR(E14="",K14=""),"",IFERROR(E14/100*K14,0))
B15: =IF(A15="","",IFERROR(VLOOKUP(MOD(A15,7),$T$2:$U$8,2,FALSE),"")) | F15: =IF(E15="","","g") | G15: =IF(D15="","",IFERROR(VLOOKUP(D15,'Élelmiszer törzs'!$A$2:$G$101,3,FALSE),"")) | H15: =IF(D15="","",IFERROR(VLOOKUP(D15,'Élelmiszer törzs'!$A$2:$G$101,4,FALSE),"")) | I15: =IF(D15="","",IFERROR(VLOOKUP(D15,'Élelmiszer törzs'!$A$2:$G$101,5,FALSE),"")) | J15: =IF(D15="","",IFERROR(VLOOKUP(D15,'Élelmiszer törzs'!$A$2:$G$101,6,FALSE),"")) | K15: =IF(D15="","",IFERROR(VLOOKUP(D15,'Élelmiszer törzs'!$A$2:$G$101,7,FALSE),"")) | L15: =IF(OR(E15="",G15=""),"",IFERROR(E15/100*G15,0)) | M15: =IF(OR(E15="",H15=""),"",IFERROR(E15/100*H15,0)) | N15: =IF(OR(E15="",I15=""),"",IFERROR(E15/100*I15,0)) | O15: =IF(OR(E15="",J15=""),"",IFERROR(E15/100*J15,0)) | P15: =IF(OR(E15="",K15=""),"",IFERROR(E15/100*K15,0))
B16: =IF(A16="","",IFERROR(VLOOKUP(MOD(A16,7),$T$2:$U$8,2,FALSE),"")) | F16: =IF(E16="","","g") | G16: =IF(D16="","",IFERROR(VLOOKUP(D16,'Élelmiszer törzs'!$A$2:$G$101,3,FALSE),"")) | H16: =IF(D16="","",IFERROR(VLOOKUP(D16,'Élelmiszer törzs'!$A$2:$G$101,4,FALSE),"")) | I16: =IF(D16="","",IFERROR(VLOOKUP(D16,'Élelmiszer törzs'!$A$2:$G$101,5,FALSE),"")) | J16: =IF(D16="","",IFERROR(VLOOKUP(D16,'Élelmiszer törzs'!$A$2:$G$101,6,FALSE),"")) | K16: =IF(D16="","",IFERROR(VLOOKUP(D16,'Élelmiszer törzs'!$A$2:$G$101,7,FALSE),"")) | L16: =IF(OR(E16="",G16=""),"",IFERROR(E16/100*G16,0)) | M16: =IF(OR(E16="",H16=""),"",IFERROR(E16/100*H16,0)) | N16: =IF(OR(E16="",I16=""),"",IFERROR(E16/100*I16,0)) | O16: =IF(OR(E16="",J16=""),"",IFERROR(E16/100*J16,0)) | P16: =IF(OR(E16="",K16=""),"",IFERROR(E16/100*K16,0))
B17: =IF(A17="","",IFERROR(VLOOKUP(MOD(A17,7),$T$2:$U$8,2,FALSE),"")) | F17: =IF(E17="","","g") | G17: =IF(D17="","",IFERROR(VLOOKUP(D17,'Élelmiszer törzs'!$A$2:$G$101,3,FALSE),"")) | H17: =IF(D17="","",IFERROR(VLOOKUP(D17,'Élelmiszer törzs'!$A$2:$G$101,4,FALSE),"")) | I17: =IF(D17="","",IFERROR(VLOOKUP(D17,'Élelmiszer törzs'!$A$2:$G$101,5,FALSE),"")) | J17: =IF(D17="","",IFERROR(VLOOKUP(D17,'Élelmiszer törzs'!$A$2:$G$101,6,FALSE),"")) | K17: =IF(D17="","",IFERROR(VLOOKUP(D17,'Élelmiszer törzs'!$A$2:$G$101,7,FALSE),"")) | L17: =IF(OR(E17="",G17=""),"",IFERROR(E17/100*G17,0)) | M17: =IF(OR(E17="",H17=""),"",IFERROR(E17/100*H17,0)) | N17: =IF(OR(E17="",I17=""),"",IFERROR(E17/100*I17,0)) | O17: =IF(OR(E17="",J17=""),"",IFERROR(E17/100*J17,0)) | P17: =IF(OR(E17="",K17=""),"",IFERROR(E17/100*K17,0))
B18: =IF(A18="","",IFERROR(VLOOKUP(MOD(A18,7),$T$2:$U$8,2,FALSE),"")) | F18: =IF(E18="","","g") | G18: =IF(D18="","",IFERROR(VLOOKUP(D18,'Élelmiszer törzs'!$A$2:$G$101,3,FALSE),"")) | H18: =IF(D18="","",IFERROR(VLOOKUP(D18,'Élelmiszer törzs'!$A$2:$G$101,4,FALSE),"")) | I18: =IF(D18="","",IFERROR(VLOOKUP(D18,'Élelmiszer törzs'!$A$2:$G$101,5,FALSE),"")) | J18: =IF(D18="","",IFERROR(VLOOKUP(D18,'Élelmiszer törzs'!$A$2:$G$101,6,FALSE),"")) | K18: =IF(D18="","",IFERROR(VLOOKUP(D18,'Élelmiszer törzs'!$A$2:$G$101,7,FALSE),"")) | L18: =IF(OR(E18="",G18=""),"",IFERROR(E18/100*G18,0)) | M18: =IF(OR(E18="",H18=""),"",IFERROR(E18/100*H18,0)) | N18: =IF(OR(E18="",I18=""),"",IFERROR(E18/100*I18,0)) | O18: =IF(OR(E18="",J18=""),"",IFERROR(E18/100*J18,0)) | P18: =IF(OR(E18="",K18=""),"",IFERROR(E18/100*K18,0))
B19: =IF(A19="","",IFERROR(VLOOKUP(MOD(A19,7),$T$2:$U$8,2,FALSE),"")) | F19: =IF(E19="","","g") | G19: =IF(D19="","",IFERROR(VLOOKUP(D19,'Élelmiszer törzs'!$A$2:$G$101,3,FALSE),"")) | H19: =IF(D19="","",IFERROR(VLOOKUP(D19,'Élelmiszer törzs'!$A$2:$G$101,4,FALSE),"")) | I19: =IF(D19="","",IFERROR(VLOOKUP(D19,'Élelmiszer törzs'!$A$2:$G$101,5,FALSE),"")) | J19: =IF(D19="","",IFERROR(VLOOKUP(D19,'Élelmiszer törzs'!$A$2:$G$101,6,FALSE),"")) | K19: =IF(D19="","",IFERROR(VLOOKUP(D19,'Élelmiszer törzs'!$A$2:$G$101,7,FALSE),"")) | L19: =IF(OR(E19="",G19=""),"",IFERROR(E19/100*G19,0)) | M19: =IF(OR(E19="",H19=""),"",IFERROR(E19/100*H19,0)) | N19: =IF(OR(E19="",I19=""),"",IFERROR(E19/100*I19,0)) | O19: =IF(OR(E19="",J19=""),"",IFERROR(E19/100*J19,0)) | P19: =IF(OR(E19="",K19=""),"",IFERROR(E19/100*K19,0))
B20: =IF(A20="","",IFERROR(VLOOKUP(MOD(A20,7),$T$2:$U$8,2,FALSE),"")) | F20: =IF(E20="","","g") | G20: =IF(D20="","",IFERROR(VLOOKUP(D20,'Élelmiszer törzs'!$A$2:$G$101,3,FALSE),"")) | H20: =IF(D20="","",IFERROR(VLOOKUP(D20,'Élelmiszer törzs'!$A$2:$G$101,4,FALSE),"")) | I20: =IF(D20="","",IFERROR(VLOOKUP(D20,'Élelmiszer törzs'!$A$2:$G$101,5,FALSE),"")) | J20: =IF(D20="","",IFERROR(VLOOKUP(D20,'Élelmiszer törzs'!$A$2:$G$101,6,FALSE),"")) | K20: =IF(D20="","",IFERROR(VLOOKUP(D20,'Élelmiszer törzs'!$A$2:$G$101,7,FALSE),"")) | L20: =IF(OR(E20="",G20=""),"",IFERROR(E20/100*G20,0)) | M20: =IF(OR(E20="",H20=""),"",IFERROR(E20/100*H20,0)) | N20: =IF(OR(E20="",I20=""),"",IFERROR(E20/100*I20,0)) | O20: =IF(OR(E20="",J20=""),"",IFERROR(E20/100*J20,0)) | P20: =IF(OR(E20="",K20=""),"",IFERROR(E20/100*K20,0))
B21: =IF(A21="","",IFERROR(VLOOKUP(MOD(A21,7),$T$2:$U$8,2,FALSE),"")) | F21: =IF(E21="","","g") | G21: =IF(D21="","",IFERROR(VLOOKUP(D21,'Élelmiszer törzs'!$A$2:$G$101,3,FALSE),"")) | H21: =IF(D21="","",IFERROR(VLOOKUP(D21,'Élelmiszer törzs'!$A$2:$G$101,4,FALSE),"")) | I21: =IF(D21="","",IFERROR(VLOOKUP(D21,'Élelmiszer törzs'!$A$2:$G$101,5,FALSE),"")) | J21: =IF(D21="","",IFERROR(VLOOKUP(D21,'Élelmiszer törzs'!$A$2:$G$101,6,FALSE),"")) | K21: =IF(D21="","",IFERROR(VLOOKUP(D21,'Élelmiszer törzs'!$A$2:$G$101,7,FALSE),"")) | L21: =IF(OR(E21="",G21=""),"",IFERROR(E21/100*G21,0)) | M21: =IF(OR(E21="",H21=""),"",IFERROR(E21/100*H21,0)) | N21: =IF(OR(E21="",I21=""),"",IFERROR(E21/100*I21,0)) | O21: =IF(OR(E21="",J21=""),"",IFERROR(E21/100*J21,0)) | P21: =IF(OR(E21="",K21=""),"",IFERROR(E21/100*K21,0))
B22: =IF(A22="","",IFERROR(VLOOKUP(MOD(A22,7),$T$2:$U$8,2,FALSE),"")) | F22: =IF(E22="","","g") | G22: =IF(D22="","",IFERROR(VLOOKUP(D22,'Élelmiszer törzs'!$A$2:$G$101,3,FALSE),"")) | H22: =IF(D22="","",IFERROR(VLOOKUP(D22,'Élelmiszer törzs'!$A$2:$G$101,4,FALSE),"")) | I22: =IF(D22="","",IFERROR(VLOOKUP(D22,'Élelmiszer törzs'!$A$2:$G$101,5,FALSE),"")) | J22: =IF(D22="","",IFERROR(VLOOKUP(D22,'Élelmiszer törzs'!$A$2:$G$101,6,FALSE),"")) | K22: =IF(D22="","",IFERROR(VLOOKUP(D22,'Élelmiszer törzs'!$A$2:$G$101,7,FALSE),"")) | L22: =IF(OR(E22="",G22=""),"",IFERROR(E22/100*G22,0)) | M22: =IF(OR(E22="",H22=""),"",IFERROR(E22/100*H22,0)) | N22: =IF(OR(E22="",I22=""),"",IFERROR(E22/100*I22,0)) | O22: =IF(OR(E22="",J22=""),"",IFERROR(E22/100*J22,0)) | P22: =IF(OR(E22="",K22=""),"",IFERROR(E22/100*K22,0))
B23: =IF(A23="","",IFERROR(VLOOKUP(MOD(A23,7),$T$2:$U$8,2,FALSE),"")) | F23: =IF(E23="","","g") | G23: =IF(D23="","",IFERROR(VLOOKUP(D23,'Élelmiszer törzs'!$A$2:$G$101,3,FALSE),"")) | H23: =IF(D23="","",IFERROR(VLOOKUP(D23,'Élelmiszer törzs'!$A$2:$G$101,4,FALSE),"")) | I23: =IF(D23="","",IFERROR(VLOOKUP(D23,'Élelmiszer törzs'!$A$2:$G$101,5,FALSE),"")) | J23: =IF(D23="","",IFERROR(VLOOKUP(D23,'Élelmiszer törzs'!$A$2:$G$101,6,FALSE),"")) | K23: =IF(D23="","",IFERROR(VLOOKUP(D23,'Élelmiszer törzs'!$A$2:$G$101,7,FALSE),"")) | L23: =IF(OR(E23="",G23=""),"",IFERROR(E23/100*G23,0)) | M23: =IF(OR(E23="",H23=""),"",IFERROR(E23/100*H23,0)) | N23: =IF(OR(E23="",I23=""),"",IFERROR(E23/100*I23,0)) | O23: =IF(OR(E23="",J23=""),"",IFERROR(E23/100*J23,0)) | P23: =IF(OR(E23="",K23=""),"",IFERROR(E23/100*K23,0))
... B101: =IF(A101="","",IFERROR(VLOOKUP(MOD(A101,7),$T$2:$U$8,2,FALSE),"")) | F101: =IF(E101="","","g") | G101: =IF(D101="","",IFERROR(VLOOKUP(D101,'Élelmiszer törzs'!$A$2:$G$101,3,FALSE),"")) | H101: =IF(D101="","",IFERROR(VLOOKUP(D101,'Élelmiszer törzs'!$A$2:$G$101,4,FALSE),"")) | I101: =IF(D101="","",IFERROR(VLOOKUP(D101,'Élelmiszer törzs'!$A$2:$G$101,5,FALSE),"")) | J101: =IF(D101="","",IFERROR(VLOOKUP(D101,'Élelmiszer törzs'!$A$2:$G$101,6,FALSE),"")) | K101: =IF(D101="","",IFERROR(VLOOKUP(D101,'Élelmiszer törzs'!$A$2:$G$101,7,FALSE),"")) | L101: =IF(OR(E101="",G101=""),"",IFERROR(E101/100*G101,0)) | M101: =IF(OR(E101="",H101=""),"",IFERROR(E101/100*H101,0)) | N101: =IF(OR(E101="",I101=""),"",IFERROR(E101/100*I101,0)) | O101: =IF(OR(E101="",J101=""),"",IFERROR(E101/100*J101,0)) | P101: =IF(OR(E101="",K101=""),"",IFERROR(E101/100*K101,0))

Sheet Élelmiszer törzs
A1: Élelmiszer | B1: Kategória | C1: Kcal / 100 g | D1: Fehérje / 100 g (g) | E1: Szénhidrát / 100 g (g) | F1: Zsír / 100 g (g) | G1: Rost / 100 g (g)
A2: zabpehely | B2: gabonaféle | C2: 370 | D2: 13 | E2: 60 | F2: 7 | G2: 10
A3: görög joghurt | B3: tejtermék | C3: 73 | D3: 9 | E3: 4 | F3: 3 | G3: 0
A4: banán | B4: gyümölcs | C4: 89 | D4: 1.1 | E4: 23 | F4: 0.3 | G4: 2.6
A5: csirkemell | B5: hús | C5: 165 | D5: 31 | E5: 0 | F5: 3.6 | G5: 0
A6: barna rizs | B6: köret | C6: 123 | D6: 2.6 | E6: 25.6 | F6: 1 | G6: 1.6
A7: brokkoli | B7: zöldség | C7: 34 | D7: 2.8 | E7: 7 | F7: 0.4 | G7: 2.6
A8: tojás | B8: tojás | C8: 155 | D8: 13 | E8: 1.1 | F8: 11 | G8: 0
A9: lazac | B9: hal | C9: 208 | D9: 20 | E9: 0 | F9: 13 | G9: 0
A10: túró | B10: tejtermék | C10: 98 | D10: 17 | E10: 3 | F10: 2.5 | G10: 0
A11: alma | B11: gyümölcs | C11: 52 | D11: 0.3 | E11: 14 | F11: 0.2 | G11: 2.4
A12: mandula | B12: olajos magvak | C12: 579 | D12: 21 | E12: 22 | F12: 50 | G12: 12.5
A13: teljes kiőrlésű kenyér | B13: kenyér | C13: 247 | D13: 13 | E13: 41 | F13: 4.2 | G13: 7

Sheet Összesítő
A1: Dátum | B1: Napi kcal | C1: Kcal-cél teljesülése (%) | D1: Fehérje (g) | E1: Fehérjecél teljesülése (%) | F1: Szénhidrát (g) | G1: Zsír (g) | H1: Rost (g) | I1: Folyadék (ml) | J1: Folyadékcél teljesülése (%) | K1: Értékelés | L1: Kalóriacél (kcal)
A2: 46296 | B2: =IF(A2="","",SUMIF('Napi napló'!$A$2:$A$101,A2,'Napi napló'!$L$2:$L$101)) | C2: =IF(A2="","",IFERROR(B2/'Összesítő'!$N$3,0)) | D2: =IF(A2="","",SUMIF('Napi napló'!$A$2:$A$101,A2,'Napi napló'!$M$2:$M$101)) | E2: =IF(A2="","",IFERROR(D2/'Összesítő'!$N$4,0)) | F2: =IF(A2="","",SUMIF('Napi napló'!$A$2:$A$101,A2,'Napi napló'!$N$2:$N$101)) | G2: =IF(A2="","",SUMIF('Napi napló'!$A$2:$A$101,A2,'Napi napló'!$O$2:$O$101)) | H2: =IF(A2="","",SUMIF('Napi napló'!$A$2:$A$101,A2,'Napi napló'!$P$2:$P$101)) | I2: =IF(A2="","",SUMIF('Napi napló'!$A$2:$A$101,A2,'Napi napló'!$Q$2:$Q$101)) | J2: =IF(A2="","",IFERROR(I2/'Összesítő'!$N$7,0)) | K2: =IF(A2="","",IF(B2<='Összesítő'!$N$3,"Célon belül","Cél felett")) | L2: =IF(A2="","",'Összesítő'!$N$3) | M2: Napi célértékek | N2: Érték
A3: 46297 | B3: =IF(A3="","",SUMIF('Napi napló'!$A$2:$A$101,A3,'Napi napló'!$L$2:$L$101)) | C3: =IF(A3="","",IFERROR(B3/'Összesítő'!$N$3,0)) | D3: =IF(A3="","",SUMIF('Napi napló'!$A$2:$A$101,A3,'Napi napló'!$M$2:$M$101)) | E3: =IF(A3="","",IFERROR(D3/'Összesítő'!$N$4,0)) | F3: =IF(A3="","",SUMIF('Napi napló'!$A$2:$A$101,A3,'Napi napló'!$N$2:$N$101)) | G3: =IF(A3="","",SUMIF('Napi napló'!$A$2:$A$101,A3,'Napi napló'!$O$2:$O$101)) | H3: =IF(A3="","",SUMIF('Napi napló'!$A$2:$A$101,A3,'Napi napló'!$P$2:$P$101)) | I3: =IF(A3="","",SUMIF('Napi napló'!$A$2:$A$101,A3,'Napi napló'!$Q$2:$Q$101)) | J3: =IF(A3="","",IFERROR(I3/'Összesítő'!$N$7,0)) | K3: =IF(A3="","",IF(B3<='Összesítő'!$N$3,"Célon belül","Cél felett")) | L3: =IF(A3="","",'Összesítő'!$N$3) | M3: Napi kalóriacél (kcal) | N3: 2000
A4: 46298 | B4: =IF(A4="","",SUMIF('Napi napló'!$A$2:$A$101,A4,'Napi napló'!$L$2:$L$101)) | C4: =IF(A4="","",IFERROR(B4/'Összesítő'!$N$3,0)) | D4: =IF(A4="","",SUMIF('Napi napló'!$A$2:$A$101,A4,'Napi napló'!$M$2:$M$101)) | E4: =IF(A4="","",IFERROR(D4/'Összesítő'!$N$4,0)) | F4: =IF(A4="","",SUMIF('Napi napló'!$A$2:$A$101,A4,'Napi napló'!$N$2:$N$101)) | G4: =IF(A4="","",SUMIF('Napi napló'!$A$2:$A$101,A4,'Napi napló'!$O$2:$O$101)) | H4: =IF(A4="","",SUMIF('Napi napló'!$A$2:$A$101,A4,'Napi napló'!$P$2:$P$101)) | I4: =IF(A4="","",SUMIF('Napi napló'!$A$2:$A$101,A4,'Napi napló'!$Q$2:$Q$101)) | J4: =IF(A4="","",IFERROR(I4/'Összesítő'!$N$7,0)) | K4: =IF(A4="","",IF(B4<='Összesítő'!$N$3,"Célon belül","Cél felett")) | L4: =IF(A4="","",'Összesítő'!$N$3) | M4: Fehérjecél (g) | N4: 140
B5: =IF(A5="","",SUMIF('Napi napló'!$A$2:$A$101,A5,'Napi napló'!$L$2:$L$101)) | C5: =IF(A5="","",IFERROR(B5/'Összesítő'!$N$3,0)) | D5: =IF(A5="","",SUMIF('Napi napló'!$A$2:$A$101,A5,'Napi napló'!$M$2:$M$101)) | E5: =IF(A5="","",IFERROR(D5/'Összesítő'!$N$4,0)) | F5: =IF(A5="","",SUMIF('Napi napló'!$A$2:$A$101,A5,'Napi napló'!$N$2:$N$101)) | G5: =IF(A5="","",SUMIF('Napi napló'!$A$2:$A$101,A5,'Napi napló'!$O$2:$O$101)) | H5: =IF(A5="","",SUMIF('Napi napló'!$A$2:$A$101,A5,'Napi napló'!$P$2:$P$101)) | I5: =IF(A5="","",SUMIF('Napi napló'!$A$2:$A$101,A5,'Napi napló'!$Q$2:$Q$101)) | J5: =IF(A5="","",IFERROR(I5/'Összesítő'!$N$7,0)) | K5: =IF(A5="","",IF(B5<='Összesítő'!$N$3,"Célon belül","Cél felett")) | L5: =IF(A5="","",'Összesítő'!$N$3) | M5: Szénhidrátcél (g) | N5: 220
B6: =IF(A6="","",SUMIF('Napi napló'!$A$2:$A$101,A6,'Napi napló'!$L$2:$L$101)) | C6: =IF(A6="","",IFERROR(B6/'Összesítő'!$N$3,0)) | D6: =IF(A6="","",SUMIF('Napi napló'!$A$2:$A$101,A6,'Napi napló'!$M$2:$M$101)) | E6: =IF(A6="","",IFERROR(D6/'Összesítő'!$N$4,0)) | F6: =IF(A6="","",SUMIF('Napi napló'!$A$2:$A$101,A6,'Napi napló'!$N$2:$N$101)) | G6: =IF(A6="","",SUMIF('Napi napló'!$A$2:$A$101,A6,'Napi napló'!$O$2:$O$101)) | H6: =IF(A6="","",SUMIF('Napi napló'!$A$2:$A$101,A6,'Napi napló'!$P$2:$P$101)) | I6: =IF(A6="","",SUMIF('Napi napló'!$A$2:$A$101,A6,'Napi napló'!$Q$2:$Q$101)) | J6: =IF(A6="","",IFERROR(I6/'Összesítő'!$N$7,0)) | K6: =IF(A6="","",IF(B6<='Összesítő'!$N$3,"Célon belül","Cél felett")) | L6: =IF(A6="","",'Összesítő'!$N$3) | M6: Zsírcél (g) | N6: 70
B7: =IF(A7="","",SUMIF('Napi napló'!$A$2:$A$101,A7,'Napi napló'!$L$2:$L$101)) | C7: =IF(A7="","",IFERROR(B7/'Összesítő'!$N$3,0)) | D7: =IF(A7="","",SUMIF('Napi napló'!$A$2:$A$101,A7,'Napi napló'!$M$2:$M$101)) | E7: =IF(A7="","",IFERROR(D7/'Összesítő'!$N$4,0)) | F7: =IF(A7="","",SUMIF('Napi napló'!$A$2:$A$101,A7,'Napi napló'!$N$2:$N$101)) | G7: =IF(A7="","",SUMIF('Napi napló'!$A$2:$A$101,A7,'Napi napló'!$O$2:$O$101)) | H7: =IF(A7="","",SUMIF('Napi napló'!$A$2:$A$101,A7,'Napi napló'!$P$2:$P$101)) | I7: =IF(A7="","",SUMIF('Napi napló'!$A$2:$A$101,A7,'Napi napló'!$Q$2:$Q$101)) | J7: =IF(A7="","",IFERROR(I7/'Összesítő'!$N$7,0)) | K7: =IF(A7="","",IF(B7<='Összesítő'!$N$3,"Célon belül","Cél felett")) | L7: =IF(A7="","",'Összesítő'!$N$3) | M7: Folyadékcél (ml) | N7: 2000
B8: =IF(A8="","",SUMIF('Napi napló'!$A$2:$A$101,A8,'Napi napló'!$L$2:$L$101)) | C8: =IF(A8="","",IFERROR(B8/'Összesítő'!$N$3,0)) | D8: =IF(A8="","",SUMIF('Napi napló'!$A$2:$A$101,A8,'Napi napló'!$M$2:$M$101)) | E8: =IF(A8="","",IFERROR(D8/'Összesítő'!$N$4,0)) | F8: =IF(A8="","",SUMIF('Napi napló'!$A$2:$A$101,A8,'Napi napló'!$N$2:$N$101)) | G8: =IF(A8="","",SUMIF('Napi napló'!$A$2:$A$101,A8,'Napi napló'!$O$2:$O$101)) | H8: =IF(A8="","",SUMIF('Napi napló'!$A$2:$A$101,A8,'Napi napló'!$P$2:$P$101)) | I8: =IF(A8="","",SUMIF('Napi napló'!$A$2:$A$101,A8,'Napi napló'!$Q$2:$Q$101)) | J8: =IF(A8="","",IFERROR(I8/'Összesítő'!$N$7,0)) | K8: =IF(A8="","",IF(B8<='Összesítő'!$N$3,"Célon belül","Cél felett")) | L8: =IF(A8="","",'Összesítő'!$N$3)
B9: =IF(A9="","",SUMIF('Napi napló'!$A$2:$A$101,A9,'Napi napló'!$L$2:$L$101)) | C9: =IF(A9="","",IFERROR(B9/'Összesítő'!$N$3,0)) | D9: =IF(A9="","",SUMIF('Napi napló'!$A$2:$A$101,A9,'Napi napló'!$M$2:$M$101)) | E9: =IF(A9="","",IFERROR(D9/'Összesítő'!$N$4,0)) | F9: =IF(A9="","",SUMIF('Napi napló'!$A$2:$A$101,A9,'Napi napló'!$N$2:$N$101)) | G9: =IF(A9="","",SUMIF('Napi napló'!$A$2:$A$101,A9,'Napi napló'!$O$2:$O$101)) | H9: =IF(A9="","",SUMIF('Napi napló'!$A$2:$A$101,A9,'Napi napló'!$P$2:$P$101)) | I9: =IF(A9="","",SUMIF('Napi napló'!$A$2:$A$101,A9,'Napi napló'!$Q$2:$Q$101)) | J9: =IF(A9="","",IFERROR(I9/'Összesítő'!$N$7,0)) | K9: =IF(A9="","",IF(B9<='Összesítő'!$N$3,"Célon belül","Cél felett")) | L9: =IF(A9="","",'Összesítő'!$N$3)
B10: =IF(A10="","",SUMIF('Napi napló'!$A$2:$A$101,A10,'Napi napló'!$L$2:$L$101)) | C10: =IF(A10="","",IFERROR(B10/'Összesítő'!$N$3,0)) | D10: =IF(A10="","",SUMIF('Napi napló'!$A$2:$A$101,A10,'Napi napló'!$M$2:$M$101)) | E10: =IF(A10="","",IFERROR(D10/'Összesítő'!$N$4,0)) | F10: =IF(A10="","",SUMIF('Napi napló'!$A$2:$A$101,A10,'Napi napló'!$N$2:$N$101)) | G10: =IF(A10="","",SUMIF('Napi napló'!$A$2:$A$101,A10,'Napi napló'!$O$2:$O$101)) | H10: =IF(A10="","",SUMIF('Napi napló'!$A$2:$A$101,A10,'Napi napló'!$P$2:$P$101)) | I10: =IF(A10="","",SUMIF('Napi napló'!$A$2:$A$101,A10,'Napi napló'!$Q$2:$Q$101)) | J10: =IF(A10="","",IFERROR(I10/'Összesítő'!$N$7,0)) | K10: =IF(A10="","",IF(B10<='Összesítő'!$N$3,"Célon belül","Cél felett")) | L10: =IF(A10="","",'Összesítő'!$N$3) | M10: Heti mutatók | N10: Érték
B11: =IF(A11="","",SUMIF('Napi napló'!$A$2:$A$101,A11,'Napi napló'!$L$2:$L$101)) | C11: =IF(A11="","",IFERROR(B11/'Összesítő'!$N$3,0)) | D11: =IF(A11="","",SUMIF('Napi napló'!$A$2:$A$101,A11,'Napi napló'!$M$2:$M$101)) | E11: =IF(A11="","",IFERROR(D11/'Összesítő'!$N$4,0)) | F11: =IF(A11="","",SUMIF('Napi napló'!$A$2:$A$101,A11,'Napi napló'!$N$2:$N$101)) | G11: =IF(A11="","",SUMIF('Napi napló'!$A$2:$A$101,A11,'Napi napló'!$O$2:$O$101)) | H11: =IF(A11="","",SUMIF('Napi napló'!$A$2:$A$101,A11,'Napi napló'!$P$2:$P$101)) | I11: =IF(A11="","",SUMIF('Napi napló'!$A$2:$A$101,A11,'Napi napló'!$Q$2:$Q$101)) | J11: =IF(A11="","",IFERROR(I11/'Összesítő'!$N$7,0)) | K11: =IF(A11="","",IF(B11<='Összesítő'!$N$3,"Célon belül","Cél felett")) | L11: =IF(A11="","",'Összesítő'!$N$3) | M11: Heti átlagos kalóriabevitel | N11: =IFERROR(AVERAGE(B2:B8),0)
B12: =IF(A12="","",SUMIF('Napi napló'!$A$2:$A$101,A12,'Napi napló'!$L$2:$L$101)) | C12: =IF(A12="","",IFERROR(B12/'Összesítő'!$N$3,0)) | D12: =IF(A12="","",SUMIF('Napi napló'!$A$2:$A$101,A12,'Napi napló'!$M$2:$M$101)) | E12: =IF(A12="","",IFERROR(D12/'Összesítő'!$N$4,0)) | F12: =IF(A12="","",SUMIF('Napi napló'!$A$2:$A$101,A12,'Napi napló'!$N$2:$N$101)) | G12: =IF(A12="","",SUMIF('Napi napló'!$A$2:$A$101,A12,'Napi napló'!$O$2:$O$101)) | H12: =IF(A12="","",SUMIF('Napi napló'!$A$2:$A$101,A12,'Napi napló'!$P$2:$P$101)) | I12: =IF(A12="","",SUMIF('Napi napló'!$A$2:$A$101,A12,'Napi napló'!$Q$2:$Q$101)) | J12: =IF(A12="","",IFERROR(I12/'Összesítő'!$N$7,0)) | K12: =IF(A12="","",IF(B12<='Összesítő'!$N$3,"Célon belül","Cél felett")) | L12: =IF(A12="","",'Összesítő'!$N$3) | M12: Célon belüli napok száma | N12: =COUNTIF(K2:K8,"Célon belül")
B13: =IF(A13="","",SUMIF('Napi napló'!$A$2:$A$101,A13,'Napi napló'!$L$2:$L$101)) | C13: =IF(A13="","",IFERROR(B13/'Összesítő'!$N$3,0)) | D13: =IF(A13="","",SUMIF('Napi napló'!$A$2:$A$101,A13,'Napi napló'!$M$2:$M$101)) | E13: =IF(A13="","",IFERROR(D13/'Összesítő'!$N$4,0)) | F13: =IF(A13="","",SUMIF('Napi napló'!$A$2:$A$101,A13,'Napi napló'!$N$2:$N$101)) | G13: =IF(A13="","",SUMIF('Napi napló'!$A$2:$A$101,A13,'Napi napló'!$O$2:$O$101)) | H13: =IF(A13="","",SUMIF('Napi napló'!$A$2:$A$101,A13,'Napi napló'!$P$2:$P$101)) | I13: =IF(A13="","",SUMIF('Napi napló'!$A$2:$A$101,A13,'Napi napló'!$Q$2:$Q$101)) | J13: =IF(A13="","",IFERROR(I13/'Összesítő'!$N$7,0)) | K13: =IF(A13="","",IF(B13<='Összesítő'!$N$3,"Célon belül","Cél felett")) | L13: =IF(A13="","",'Összesítő'!$N$3) | M13: Célon belüli napok aránya | N13: =IFERROR(COUNTIF(K2:K8,"Célon belül")/COUNT(A2:A8),0)
B14: =IF(A14="","",SUMIF('Napi napló'!$A$2:$A$101,A14,'Napi napló'!$L$2:$L$101)) | C14: =IF(A14="","",IFERROR(B14/'Összesítő'!$N$3,0)) | D14: =IF(A14="","",SUMIF('Napi napló'!$A$2:$A$101,A14,'Napi napló'!$M$2:$M$101)) | E14: =IF(A14="","",IFERROR(D14/'Összesítő'!$N$4,0)) | F14: =IF(A14="","",SUMIF('Napi napló'!$A$2:$A$101,A14,'Napi napló'!$N$2:$N$101)) | G14: =IF(A14="","",SUMIF('Napi napló'!$A$2:$A$101,A14,'Napi napló'!$O$2:$O$101)) | H14: =IF(A14="","",SUMIF('Napi napló'!$A$2:$A$101,A14,'Napi napló'!$P$2:$P$101)) | I14: =IF(A14="","",SUMIF('Napi napló'!$A$2:$A$101,A14,'Napi napló'!$Q$2:$Q$101)) | J14: =IF(A14="","",IFERROR(I14/'Összesítő'!$N$7,0)) | K14: =IF(A14="","",IF(B14<='Összesítő'!$N$3,"Célon belül","Cél felett")) | L14: =IF(A14="","",'Összesítő'!$N$3)
B15: =IF(A15="","",SUMIF('Napi napló'!$A$2:$A$101,A15,'Napi napló'!$L$2:$L$101)) | C15: =IF(A15="","",IFERROR(B15/'Összesítő'!$N$3,0)) | D15: =IF(A15="","",SUMIF('Napi napló'!$A$2:$A$101,A15,'Napi napló'!$M$2:$M$101)) | E15: =IF(A15="","",IFERROR(D15/'Összesítő'!$N$4,0)) | F15: =IF(A15="","",SUMIF('Napi napló'!$A$2:$A$101,A15,'Napi napló'!$N$2:$N$101)) | G15: =IF(A15="","",SUMIF('Napi napló'!$A$2:$A$101,A15,'Napi napló'!$O$2:$O$101)) | H15: =IF(A15="","",SUMIF('Napi napló'!$A$2:$A$101,A15,'Napi napló'!$P$2:$P$101)) | I15: =IF(A15="","",SUMIF('Napi napló'!$A$2:$A$101,A15,'Napi napló'!$Q$2:$Q$101)) | J15: =IF(A15="","",IFERROR(I15/'Összesítő'!$N$7,0)) | K15: =IF(A15="","",IF(B15<='Összesítő'!$N$3,"Célon belül","Cél felett")) | L15: =IF(A15="","",'Összesítő'!$N$3)
B16: =IF(A16="","",SUMIF('Napi napló'!$A$2:$A$101,A16,'Napi napló'!$L$2:$L$101)) | C16: =IF(A16="","",IFERROR(B16/'Összesítő'!$N$3,0)) | D16: =IF(A16="","",SUMIF('Napi napló'!$A$2:$A$101,A16,'Napi napló'!$M$2:$M$101)) | E16: =IF(A16="","",IFERROR(D16/'Összesítő'!$N$4,0)) | F16: =IF(A16="","",SUMIF('Napi napló'!$A$2:$A$101,A16,'Napi napló'!$N$2:$N$101)) | G16: =IF(A16="","",SUMIF('Napi napló'!$A$2:$A$101,A16,'Napi napló'!$O$2:$O$101)) | H16: =IF(A16="","",SUMIF('Napi napló'!$A$2:$A$101,A16,'Napi napló'!$P$2:$P$101)) | I16: =IF(A16="","",SUMIF('Napi napló'!$A$2:$A$101,A16,'Napi napló'!$Q$2:$Q$101)) | J16: =IF(A16="","",IFERROR(I16/'Összesítő'!$N$7,0)) | K16: =IF(A16="","",IF(B16<='Összesítő'!$N$3,"Célon belül","Cél felett")) | L16: =IF(A16="","",'Összesítő'!$N$3)
B17: =IF(A17="","",SUMIF('Napi napló'!$A$2:$A$101,A17,'Napi napló'!$L$2:$L$101)) | C17: =IF(A17="","",IFERROR(B17/'Összesítő'!$N$3,0)) | D17: =IF(A17="","",SUMIF('Napi napló'!$A$2:$A$101,A17,'Napi napló'!$M$2:$M$101)) | E17: =IF(A17="","",IFERROR(D17/'Összesítő'!$N$4,0)) | F17: =IF(A17="","",SUMIF('Napi napló'!$A$2:$A$101,A17,'Napi napló'!$N$2:$N$101)) | G17: =IF(A17="","",SUMIF('Napi napló'!$A$2:$A$101,A17,'Napi napló'!$O$2:$O$101)) | H17: =IF(A17="","",SUMIF('Napi napló'!$A$2:$A$101,A17,'Napi napló'!$P$2:$P$101)) | I17: =IF(A17="","",SUMIF('Napi napló'!$A$2:$A$101,A17,'Napi napló'!$Q$2:$Q$101)) | J17: =IF(A17="","",IFERROR(I17/'Összesítő'!$N$7,0)) | K17: =IF(A17="","",IF(B17<='Összesítő'!$N$3,"Célon belül","Cél felett")) | L17: =IF(A17="","",'Összesítő'!$N$3)
B18: =IF(A18="","",SUMIF('Napi napló'!$A$2:$A$101,A18,'Napi napló'!$L$2:$L$101)) | C18: =IF(A18="","",IFERROR(B18/'Összesítő'!$N$3,0)) | D18: =IF(A18="","",SUMIF('Napi napló'!$A$2:$A$101,A18,'Napi napló'!$M$2:$M$101)) | E18: =IF(A18="","",IFERROR(D18/'Összesítő'!$N$4,0)) | F18: =IF(A18="","",SUMIF('Napi napló'!$A$2:$A$101,A18,'Napi napló'!$N$2:$N$101)) | G18: =IF(A18="","",SUMIF('Napi napló'!$A$2:$A$101,A18,'Napi napló'!$O$2:$O$101)) | H18: =IF(A18="","",SUMIF('Napi napló'!$A$2:$A$101,A18,'Napi napló'!$P$2:$P$101)) | I18: =IF(A18="","",SUMIF('Napi napló'!$A$2:$A$101,A18,'Napi napló'!$Q$2:$Q$101)) | J18: =IF(A18="","",IFERROR(I18/'Összesítő'!$N$7,0)) | K18: =IF(A18="","",IF(B18<='Összesítő'!$N$3,"Célon belül","Cél felett")) | L18: =IF(A18="","",'Összesítő'!$N$3)
B19: =IF(A19="","",SUMIF('Napi napló'!$A$2:$A$101,A19,'Napi napló'!$L$2:$L$101)) | C19: =IF(A19="","",IFERROR(B19/'Összesítő'!$N$3,0)) | D19: =IF(A19="","",SUMIF('Napi napló'!$A$2:$A$101,A19,'Napi napló'!$M$2:$M$101)) | E19: =IF(A19="","",IFERROR(D19/'Összesítő'!$N$4,0)) | F19: =IF(A19="","",SUMIF('Napi napló'!$A$2:$A$101,A19,'Napi napló'!$N$2:$N$101)) | G19: =IF(A19="","",SUMIF('Napi napló'!$A$2:$A$101,A19,'Napi napló'!$O$2:$O$101)) | H19: =IF(A19="","",SUMIF('Napi napló'!$A$2:$A$101,A19,'Napi napló'!$P$2:$P$101)) | I19: =IF(A19="","",SUMIF('Napi napló'!$A$2:$A$101,A19,'Napi napló'!$Q$2:$Q$101)) | J19: =IF(A19="","",IFERROR(I19/'Összesítő'!$N$7,0)) | K19: =IF(A19="","",IF(B19<='Összesítő'!$N$3,"Célon belül","Cél felett")) | L19: =IF(A19="","",'Összesítő'!$N$3)
B20: =IF(A20="","",SUMIF('Napi napló'!$A$2:$A$101,A20,'Napi napló'!$L$2:$L$101)) | C20: =IF(A20="","",IFERROR(B20/'Összesítő'!$N$3,0)) | D20: =IF(A20="","",SUMIF('Napi napló'!$A$2:$A$101,A20,'Napi napló'!$M$2:$M$101)) | E20: =IF(A20="","",IFERROR(D20/'Összesítő'!$N$4,0)) | F20: =IF(A20="","",SUMIF('Napi napló'!$A$2:$A$101,A20,'Napi napló'!$N$2:$N$101)) | G20: =IF(A20="","",SUMIF('Napi napló'!$A$2:$A$101,A20,'Napi napló'!$O$2:$O$101)) | H20: =IF(A20="","",SUMIF('Napi napló'!$A$2:$A$101,A20,'Napi napló'!$P$2:$P$101)) | I20: =IF(A20="","",SUMIF('Napi napló'!$A$2:$A$101,A20,'Napi napló'!$Q$2:$Q$101)) | J20: =IF(A20="","",IFERROR(I20/'Összesítő'!$N$7,0)) | K20: =IF(A20="","",IF(B20<='Összesítő'!$N$3,"Célon belül","Cél felett")) | L20: =IF(A20="","",'Összesítő'!$N$3)
B21: =IF(A21="","",SUMIF('Napi napló'!$A$2:$A$101,A21,'Napi napló'!$L$2:$L$101)) | C21: =IF(A21="","",IFERROR(B21/'Összesítő'!$N$3,0)) | D21: =IF(A21="","",SUMIF('Napi napló'!$A$2:$A$101,A21,'Napi napló'!$M$2:$M$101)) | E21: =IF(A21="","",IFERROR(D21/'Összesítő'!$N$4,0)) | F21: =IF(A21="","",SUMIF('Napi napló'!$A$2:$A$101,A21,'Napi napló'!$N$2:$N$101)) | G21: =IF(A21="","",SUMIF('Napi napló'!$A$2:$A$101,A21,'Napi napló'!$O$2:$O$101)) | H21: =IF(A21="","",SUMIF('Napi napló'!$A$2:$A$101,A21,'Napi napló'!$P$2:$P$101)) | I21: =IF(A21="","",SUMIF('Napi napló'!$A$2:$A$101,A21,'Napi napló'!$Q$2:$Q$101)) | J21: =IF(A21="","",IFERROR(I21/'Összesítő'!$N$7,0)) | K21: =IF(A21="","",IF(B21<='Összesítő'!$N$3,"Célon belül","Cél felett")) | L21: =IF(A21="","",'Összesítő'!$N$3)
B22: =IF(A22="","",SUMIF('Napi napló'!$A$2:$A$101,A22,'Napi napló'!$L$2:$L$101)) | C22: =IF(A22="","",IFERROR(B22/'Összesítő'!$N$3,0)) | D22: =IF(A22="","",SUMIF('Napi napló'!$A$2:$A$101,A22,'Napi napló'!$M$2:$M$101)) | E22: =IF(A22="","",IFERROR(D22/'Összesítő'!$N$4,0)) | F22: =IF(A22="","",SUMIF('Napi napló'!$A$2:$A$101,A22,'Napi napló'!$N$2:$N$101)) | G22: =IF(A22="","",SUMIF('Napi napló'!$A$2:$A$101,A22,'Napi napló'!$O$2:$O$101)) | H22: =IF(A22="","",SUMIF('Napi napló'!$A$2:$A$101,A22,'Napi napló'!$P$2:$P$101)) | I22: =IF(A22="","",SUMIF('Napi napló'!$A$2:$A$101,A22,'Napi napló'!$Q$2:$Q$101)) | J22: =IF(A22="","",IFERROR(I22/'Összesítő'!$N$7,0)) | K22: =IF(A22="","",IF(B22<='Összesítő'!$N$3,"Célon belül","Cél felett")) | L22: =IF(A22="","",'Összesítő'!$N$3)
B23: =IF(A23="","",SUMIF('Napi napló'!$A$2:$A$101,A23,'Napi napló'!$L$2:$L$101)) | C23: =IF(A23="","",IFERROR(B23/'Összesítő'!$N$3,0)) | D23: =IF(A23="","",SUMIF('Napi napló'!$A$2:$A$101,A23,'Napi napló'!$M$2:$M$101)) | E23: =IF(A23="","",IFERROR(D23/'Összesítő'!$N$4,0)) | F23: =IF(A23="","",SUMIF('Napi napló'!$A$2:$A$101,A23,'Napi napló'!$N$2:$N$101)) | G23: =IF(A23="","",SUMIF('Napi napló'!$A$2:$A$101,A23,'Napi napló'!$O$2:$O$101)) | H23: =IF(A23="","",SUMIF('Napi napló'!$A$2:$A$101,A23,'Napi napló'!$P$2:$P$101)) | I23: =IF(A23="","",SUMIF('Napi napló'!$A$2:$A$101,A23,'Napi napló'!$Q$2:$Q$101)) | J23: =IF(A23="","",IFERROR(I23/'Összesítő'!$N$7,0)) | K23: =IF(A23="","",IF(B23<='Összesítő'!$N$3,"Célon belül","Cél felett")) | L23: =IF(A23="","",'Összesítő'!$N$3)
B24: =IF(A24="","",SUMIF('Napi napló'!$A$2:$A$101,A24,'Napi napló'!$L$2:$L$101)) | C24: =IF(A24="","",IFERROR(B24/'Összesítő'!$N$3,0)) | D24: =IF(A24="","",SUMIF('Napi napló'!$A$2:$A$101,A24,'Napi napló'!$M$2:$M$101)) | E24: =IF(A24="","",IFERROR(D24/'Összesítő'!$N$4,0)) | F24: =IF(A24="","",SUMIF('Napi napló'!$A$2:$A$101,A24,'Napi napló'!$N$2:$N$101)) | G24: =IF(A24="","",SUMIF('Napi napló'!$A$2:$A$101,A24,'Napi napló'!$O$2:$O$101)) | H24: =IF(A24="","",SUMIF('Napi napló'!$A$2:$A$101,A24,'Napi napló'!$P$2:$P$101)) | I24: =IF(A24="","",SUMIF('Napi napló'!$A$2:$A$101,A24,'Napi napló'!$Q$2:$Q$101)) | J24: =IF(A24="","",IFERROR(I24/'Összesítő'!$N$7,0)) | K24: =IF(A24="","",IF(B24<='Összesítő'!$N$3,"Célon belül","Cél felett")) | L24: =IF(A24="","",'Összesítő'!$N$3)
B25: =IF(A25="","",SUMIF('Napi napló'!$A$2:$A$101,A25,'Napi napló'!$L$2:$L$101)) | C25: =IF(A25="","",IFERROR(B25/'Összesítő'!$N$3,0)) | D25: =IF(A25="","",SUMIF('Napi napló'!$A$2:$A$101,A25,'Napi napló'!$M$2:$M$101)) | E25: =IF(A25="","",IFERROR(D25/'Összesítő'!$N$4,0)) | F25: =IF(A25="","",SUMIF('Napi napló'!$A$2:$A$101,A25,'Napi napló'!$N$2:$N$101)) | G25: =IF(A25="","",SUMIF('Napi napló'!$A$2:$A$101,A25,'Napi napló'!$O$2:$O$101)) | H25: =IF(A25="","",SUMIF('Napi napló'!$A$2:$A$101,A25,'Napi napló'!$P$2:$P$101)) | I25: =IF(A25="","",SUMIF('Napi napló'!$A$2:$A$101,A25,'Napi napló'!$Q$2:$Q$101)) | J25: =IF(A25="","",IFERROR(I25/'Összesítő'!$N$7,0)) | K25: =IF(A25="","",IF(B25<='Összesítő'!$N$3,"Célon belül","Cél felett")) | L25: =IF(A25="","",'Összesítő'!$N$3)
... B101: =IF(A101="","",SUMIF('Napi napló'!$A$2:$A$101,A101,'Napi napló'!$L$2:$L$101)) | C101: =IF(A101="","",IFERROR(B101/'Összesítő'!$N$3,0)) | D101: =IF(A101="","",SUMIF('Napi napló'!$A$2:$A$101,A101,'Napi napló'!$M$2:$M$101)) | E101: =IF(A101="","",IFERROR(D101/'Összesítő'!$N$4,0)) | F101: =IF(A101="","",SUMIF('Napi napló'!$A$2:$A$101,A101,'Napi napló'!$N$2:$N$101)) | G101: =IF(A101="","",SUMIF('Napi napló'!$A$2:$A$101,A101,'Napi napló'!$O$2:$O$101)) | H101: =IF(A101="","",SUMIF('Napi napló'!$A$2:$A$101,A101,'Napi napló'!$P$2:$P$101)) | I101: =IF(A101="","",SUMIF('Napi napló'!$A$2:$A$101,A101,'Napi napló'!$Q$2:$Q$101)) | J101: =IF(A101="","",IFERROR(I101/'Összesítő'!$N$7,0)) | K101: =IF(A101="","",IF(B101<='Összesítő'!$N$3,"Célon belül","Cél felett")) | L101: =IF(A101="","",'Összesítő'!$N$3)

Sheet Útmutató
A1: Diéta napló Excel sablon – használati útmutató
A3: Sorszám | B3: Teendő | C3: Részletes leírás | D3: Érintett munkalap | E3: Javasolt gyakoriság | F3: Megjegyzés
A4: 1 | B4: Élelmiszerlista bővítése | C4: Az Élelmiszer törzs lapon új sorban adja meg az élelmiszer nevét, kategóriáját és a 100 grammra vetített tápértékeket. | D4: Élelmiszer törzs | E4: Szükség szerint | F4: A sárga mezők szerkeszthetők.
A5: 2 | B5: Napi étkezések rögzítése | C5: A Napi napló lapon csak a sárga mezőket töltse ki: dátum, étkezés, élelmiszer, mennyiség, folyadék és megjegyzés. | D5: Napi napló | E5: Minden étkezés után | F5: Az élelmiszer választható listából.
A6: 3 | B6: Automatikus tápértékek | C6: A tápértékek és az összesített kalóriaértékek automatikusan számolódnak az Élelmiszer törzs adatai alapján. | D6: Napi napló | E6: Automatikus | F6: A fehér és halványkék mezők képletesek.
A7: 4 | B7: Napi célok ellenőrzése | C7: Az Összesítő lapon állítsa be saját napi kalória-, makrotápanyag- és folyadékcéljait a sárga paramétermezőkben. | D7: Összesítő | E7: Induláskor, majd szükség szerint | F7: A célértékek személyre szabhatók.
A8: 5 | B8: Trendek áttekintése | C8: Az Összesítő diagramjai a napi kalóriabevitelt, kalóriacélt és makrotápanyag-bevitelt mutatják. | D8: Összesítő | E8: Hetente | F8: Az üres napok nem jelennek meg adatként.
A9: 6 | B9: Egészségügyi figyelmeztetés | C9: Az adatok tájékoztató jellegűek, nem helyettesítik az egészségügyi tanácsadást. Speciális étrend esetén dietetikus vagy orvos bevonása javasolt. | D9: Útmutató | E9: Szükség szerint | F9: Egyéni egészségi állapot figyelembevétele fontos.
